BEGIN:VCALENDAR
VERSION:2.0
PRODID:TU Chemnitz
METHOD:PUBLISH
X-WR-CALNAME:Veranstaltungen der TU Chemnitz
X-WR-TIMEZONE:Europe/Berlin
BEGIN:VEVENT
CLASS:PUBLIC
DTSTART;TZID="Europe/Berlin":20200430T110000
DTEND;TZID="Europe/Berlin":20200430T120000
LOCATION:OPAL WebSeminar
SUMMARY:OPAL-Sprechstunde (online) (Universitätsrechenzentrum)
DESCRIPTION:Sie haben Fragen rund um OPAL? Wir unterstützen Sie bei der Arbeit mit der Lernplatform\nE-Learning-Team\nohne Voranmeldung
ORGANIZER:MAILTO:antje.schreiber@hrz.tu-chemnitz.de
UID:21195@www.tu-chemnitz.de
CREATED:20200429T100100Z
DTSTAMP:20210801T215509Z
END:VEVENT
END:VCALENDAR
