BEGIN:VCALENDAR
VERSION:2.0
PRODID:TU Chemnitz
METHOD:PUBLISH
X-WR-CALNAME:Veranstaltungen der TU Chemnitz
X-WR-TIMEZONE:Europe/Berlin
BEGIN:VEVENT
CLASS:PUBLIC
DTSTART;TZID="Europe/Berlin":20200407T110000
DTEND;TZID="Europe/Berlin":20200407T120000
LOCATION:OPAL WebSeminar
SUMMARY:OPAL-Sprechstunde (Universitätsrechenzentrum)
DESCRIPTION:Sie haben Fragen zur Umsetzung konkreter Lehrszenarien in der Lernplattform OPAL? Gemeinsam finden wir Lösungen.\nYvonne Seidel\, Frank Richter | URZ\nohne Voranmeldung
ORGANIZER:MAILTO:antje.schreiber@hrz.tu-chemnitz.de
UID:21183@www.tu-chemnitz.de
CREATED:20200406T004200Z
DTSTAMP:20210801T215517Z
END:VEVENT
END:VCALENDAR
