BEGIN:VCALENDAR
VERSION:2.0
PRODID:TU Chemnitz
METHOD:PUBLISH
X-WR-CALNAME:Veranstaltungen der TU Chemnitz
X-WR-TIMEZONE:Europe/Berlin
BEGIN:VEVENT
CLASS:PUBLIC
DTSTART;TZID="Europe/Berlin":20200408T130000
DTEND;TZID="Europe/Berlin":20200408T143000
LOCATION:OPAL WebSeminar
SUMMARY:Online-Kurs: OPAL für Lehrende (Universitätsrechenzentrum)
DESCRIPTION:Die Teilnehmer lernen praktische Schritte zur Lehrunterstützung durch die zentrale Lernplattform der TU Chemnitz kennen\, beispielsweise die Online-Einschreibung und Skript-Bereitstellung mit Rechtevergabe usw.\nYvonne Seidel\, URZ\nAnmeldung über OPAL: https://mytuc.org/wwjg
ORGANIZER:MAILTO:antje.schreiber@hrz.tu-chemnitz.de
UID:21181@www.tu-chemnitz.de
CREATED:20200406T001800Z
DTSTAMP:20210801T215524Z
END:VEVENT
END:VCALENDAR
