BEGIN:VCALENDAR
VERSION:2.0
PRODID:TU Chemnitz
METHOD:PUBLISH
X-WR-CALNAME:Veranstaltungen der TU Chemnitz
X-WR-TIMEZONE:Europe/Berlin
BEGIN:VEVENT
CLASS:PUBLIC
DTSTART;TZID="Europe/Berlin":20200206T173000
DTEND;TZID="Europe/Berlin":20200206T183000
LOCATION:Reichenhainer Str. 90\, Chemnitz (Zentr. Hörsaal- und Seminargebäude)
SUMMARY:Lauf-KulTour 2020 öffentliche Informationveranstaltung (Universitätssport)
DESCRIPTION:In 10 Tagen einmal quer durch Deutschland\, aus eigener Muskelkraft\, für den Guten Zweck. Sei dabei.\nFlorian Mauersberger\, Steffen Kehrer\, Philipp Liebs\nhttps://www.lauf-kultour.de/
ORGANIZER:MAILTO:philipp.liebs@informatik.tu-chemnitz.de
UID:21134@www.tu-chemnitz.de
CREATED:20200203T122400Z
DTSTAMP:20210802T183403Z
END:VEVENT
END:VCALENDAR
