BEGIN:VCALENDAR
VERSION:2.0
PRODID:TU Chemnitz
METHOD:PUBLISH
X-WR-CALNAME:Veranstaltungen der TU Chemnitz
X-WR-TIMEZONE:Europe/Berlin
BEGIN:VEVENT
CLASS:PUBLIC
DTSTART;TZID="Europe/Berlin":20200219T093000
DTEND;TZID="Europe/Berlin":20200219T123000
LOCATION:Reichenhainer Str. 70\, Chemnitz (Weinhold-Bau)
SUMMARY:Ferienangebot: Kompetenzbilanzierung- Entdecke deine Stärken (TU Chemnitz)
DESCRIPTION:Der Workshop unterstützt Schüler/-innen dabei\, eigene Fähigkeiten sowie Interessen zu erkennen\, Ideen für ihre berufliche Laufbahn zu entwickeln und motiviert\, erste Schritte in die ausgearbeitete Richtung zu gehen.\nNatalie Pohle\, TU4U\nNatalie Pohle\, natalie.pohle@hrz.tu-chemnitz.de
ORGANIZER:MAILTO:natalie.pohle@verwaltung.tu-chemnitz.de
UID:21127@www.tu-chemnitz.de
CREATED:20200128T125000Z
DTSTAMP:20210802T183352Z
END:VEVENT
END:VCALENDAR
