BEGIN:VCALENDAR
VERSION:2.0
PRODID:TU Chemnitz
METHOD:PUBLISH
X-WR-CALNAME:Veranstaltungen der TU Chemnitz
X-WR-TIMEZONE:Europe/Berlin
BEGIN:VEVENT
CLASS:PUBLIC
DTSTART;TZID="Europe/Berlin":20200128T131500
DTEND;TZID="Europe/Berlin":20200128T133000
LOCATION:Reichenhainer Str. 55\, Chemnitz (Mensa)
SUMMARY:SIESTA-Lesung (Philosophische Fakultät\, Allgemeine Erziehungswissenschaft)
DESCRIPTION:Sandy Scheffler präsentiert uns eine kleine Überraschung von Wolfgang Borchert. Alle sind eingeladen - Snacks und Getränke stehen bereit.\nSandy Scheffler\nBuchhandlung Universitas\, 0371/519177\, buchhandlung@universitas.de
ORGANIZER:MAILTO:florian.melcher@s2008.tu-chemnitz.de
UID:21124@www.tu-chemnitz.de
CREATED:20200124T145800Z
DTSTAMP:20210802T183812Z
END:VEVENT
END:VCALENDAR
