BEGIN:VCALENDAR
VERSION:2.0
PRODID:TU Chemnitz
METHOD:PUBLISH
X-WR-CALNAME:Veranstaltungen der TU Chemnitz
X-WR-TIMEZONE:Europe/Berlin
BEGIN:VEVENT
CLASS:PUBLIC
DTSTART;TZID="Europe/Berlin":20200129T130000
DTEND;TZID="Europe/Berlin":20200129T134500
LOCATION:Wilhelm-Raabe-Str. 43\, Chemnitz
SUMMARY:Psychologisches Kolloquium (Fakultät für Human- und Sozialwissenschaften\, Institut für Psychologie)
DESCRIPTION:Thema: Designerdrogen und Neue Psychoaktive Substanzen (NPS)\nDr. rer. nat. Heiner Trauer\nProf. Dr. Frank Asbrock\, 31678
ORGANIZER:MAILTO:michael.meinig@psychologie.tu-chemnitz.de
UID:21122@www.tu-chemnitz.de
CREATED:20200121T084600Z
DTSTAMP:20210802T183814Z
END:VEVENT
END:VCALENDAR
