BEGIN:VCALENDAR
VERSION:2.0
PRODID:TU Chemnitz
METHOD:PUBLISH
X-WR-CALNAME:Veranstaltungen der TU Chemnitz
X-WR-TIMEZONE:Europe/Berlin
BEGIN:VEVENT
CLASS:PUBLIC
DTSTART;TZID="Europe/Berlin":20200127T210000
DTEND;TZID="Europe/Berlin":20200127T230000
LOCATION:Filmclub "mittendrin"\, Reichenhainer Str. 35/37\, Keller Mittelbau 
SUMMARY:Kino: [Montags-Doku] RECHTSRUCK [Eintritt frei!] (»mittendrin« – das campuskino)
DESCRIPTION:Ein Abend über die Tendenz der Gesellschaft\, sich von fremdenfeindlichen Parolen blenden zu lassen und die Bereitschaft der Politik\, ihnen nachzugeben oder sie gar noch anzuheizen. Ein Ausschnitt aus der gleichnamigen Filmreihe des Filmprojekts Wuppertal.\nfilmclub@tu-chemnitz.de
ORGANIZER:MAILTO:richard.geuter@s2015.tu-chemnitz.de
UID:21119@www.tu-chemnitz.de
CREATED:20200118T012700Z
DTSTAMP:20210802T183811Z
END:VEVENT
END:VCALENDAR
