BEGIN:VCALENDAR
VERSION:2.0
PRODID:TU Chemnitz
METHOD:PUBLISH
X-WR-CALNAME:Veranstaltungen der TU Chemnitz
X-WR-TIMEZONE:Europe/Berlin
BEGIN:VEVENT
CLASS:PUBLIC
DTSTART;TZID="Europe/Berlin":20200121T134500
DTEND;TZID="Europe/Berlin":20200121T151500
LOCATION:Reichenhainer Str. 70\, Chemnitz (Weinhold-Bau)
SUMMARY:Informationsveranstaltung für alle Studierende der Pädagogik zu Auslandsaufenthalten und TUCed-Studiengängen (Philosophische Fakultät\, Institut für Pädagogik)
DESCRIPTION:Die Veranstaltung gibt mit Blick auf die perspektivische Karriere und prsönliche Weiterentwicklung Informationen zu Studienaufenthalten/Praktika im Ausland und zu möglichen Studienanschlussmöglichkeiten an der TUCed.\nOliver Sachs (IUZ) & Yvonne Mälzer (TUCed)\nkeine gesondere Anmeldung notwedig! Infos über Dr. Andreas Neubert 
ORGANIZER:MAILTO:andreas.neubert@phil.tu-chemnitz.de
UID:21112@www.tu-chemnitz.de
CREATED:20200117T121100Z
DTSTAMP:20210802T183821Z
END:VEVENT
END:VCALENDAR
