BEGIN:VCALENDAR
VERSION:2.0
PRODID:TU Chemnitz
METHOD:PUBLISH
X-WR-CALNAME:Veranstaltungen der TU Chemnitz
X-WR-TIMEZONE:Europe/Berlin
BEGIN:VEVENT
CLASS:PUBLIC
DTSTART;TZID="Europe/Berlin":20200311T140000
DTEND;TZID="Europe/Berlin":20200311T170000
LOCATION:Erfenschlager Str. 73\, Chemnitz
SUMMARY:Prozesse analysieren und optimieren (TU Chemnitz)
DESCRIPTION:Basisworkshop des Mittelstand 4.0-Kompetenzzentrum Chemnitz\nMittelstand 4.0-Kompetenzzentrum Chemnitz\nFranziska Baumgärtel Tel.: +49 (0) 371 / 531-38604 E-Mail: franziska.baumgaertel@betrieb-machen.de
ORGANIZER:MAILTO:madeleine.dietrich@mb.tu-chemnitz.de
UID:21099@www.tu-chemnitz.de
CREATED:20200114T160500Z
DTSTAMP:20210802T175830Z
END:VEVENT
END:VCALENDAR
