BEGIN:VCALENDAR
VERSION:2.0
PRODID:TU Chemnitz
METHOD:PUBLISH
X-WR-CALNAME:Veranstaltungen der TU Chemnitz
X-WR-TIMEZONE:Europe/Berlin
BEGIN:VEVENT
CLASS:PUBLIC
DTSTART;TZID="Europe/Berlin":20200304T160000
DTEND;TZID="Europe/Berlin":20200304T180000
LOCATION:Erfenschlager Str. 73\, Chemnitz
SUMMARY:Führen in der Digitalisierung (TU Chemnitz)
DESCRIPTION:Basisworkshop des Mittelstand 4.0-Kompetenzzentrum Chemnitz\nMittelstand 4.0-Kompetenzzentrum Chemnitz\nDr. Michael Wächter Tel.: +49 (0) 371 / 531 32423 E-Mail: michael.waechter@betrieb-machen.de
ORGANIZER:MAILTO:madeleine.dietrich@mb.tu-chemnitz.de
UID:21095@www.tu-chemnitz.de
CREATED:20200114T155400Z
DTSTAMP:20210802T175819Z
END:VEVENT
END:VCALENDAR
