BEGIN:VCALENDAR
VERSION:2.0
PRODID:TU Chemnitz
METHOD:PUBLISH
X-WR-CALNAME:Veranstaltungen der TU Chemnitz
X-WR-TIMEZONE:Europe/Berlin
BEGIN:VEVENT
CLASS:PUBLIC
DTSTART;TZID="Europe/Berlin":20200313T130000
DTEND;TZID="Europe/Berlin":20200313T140000
LOCATION:Reichenhainer Straße 70\, Halle H
SUMMARY:Abgesagt: Schau Rein! - Woche der offenen Unternehmen (Universitätsverwaltung\, Dezernat Personal)
DESCRIPTION:Einblick in die beiden technischen Ausbildungsberufe der Universität und Besichtigung der die Lehrwerkstätten. Anmeldung: http://www.bildungsmarkt-sachsen.de/berufsorientierung/schau-rein-sachsen.php / Stichwort: Technische Universität Chemnitz\nMiriam Fellechner\, 0371 531 38794
ORGANIZER:MAILTO:miriam.fellechner@verwaltung.tu-chemnitz.de
UID:21087@www.tu-chemnitz.de
CREATED:20200110T085300Z
DTSTAMP:20210802T175828Z
END:VEVENT
END:VCALENDAR
