BEGIN:VCALENDAR
VERSION:2.0
PRODID:TU Chemnitz
METHOD:PUBLISH
X-WR-CALNAME:Veranstaltungen der TU Chemnitz
X-WR-TIMEZONE:Europe/Berlin
BEGIN:VEVENT
CLASS:PUBLIC
DTSTART;TZID="Europe/Berlin":20200114T131500
DTEND;TZID="Europe/Berlin":20200114T133000
LOCATION:Reichenhainer Str. 55\, Chemnitz (Mensa)
SUMMARY:SIESTA-Lesung (Philosophische Fakultät\, Britische und Amerikanische Kultur- und Länderstudien)
DESCRIPTION:Tracy Rammler gibt einen Einblick in die Autobiographie von Michelle Obama. Abschalten in der Mittagspause bei Snacks und Getränken! Eintritt ist frei.\nTracy Rammler\nBuchhandlung Universitas\, 0371/519177\, buchhandlung@universitas.de
ORGANIZER:MAILTO:florian.melcher@s2008.tu-chemnitz.de
UID:21086@www.tu-chemnitz.de
CREATED:20200109T170700Z
DTSTAMP:20210802T183810Z
END:VEVENT
END:VCALENDAR
