BEGIN:VCALENDAR
VERSION:2.0
PRODID:TU Chemnitz
METHOD:PUBLISH
X-WR-CALNAME:Veranstaltungen der TU Chemnitz
X-WR-TIMEZONE:Europe/Berlin
BEGIN:VEVENT
CLASS:PUBLIC
DTSTART;TZID="Europe/Berlin":20200108T190000
DTEND;TZID="Europe/Berlin":20200108T210000
LOCATION:Reichenhainer Str. 70\, Chemnitz (Rühlmann-Bau)
SUMMARY:Washington\, Peking oder Moskau: Wohin orientiert sich Europa künftig? (TU Chemnitz\, Professur Internationale Politik & Konrad-Adenauer-Stiftung)
DESCRIPTION:Die geopolitischen Gewichte verschieben sich\, das transatlantische Bündnis ist belastet. Regionalmächte wie Russland und die Türkei werden aktiver\, China will neue Weltmacht werden. Was bedeutet dies für Europa? Wer ist künftig Verbündeter\, wer Gegner?\nDr. Jana Puglierin\, Deutsche Gesellschaft für Auswärtige Politik & Dr. Andrej Pustovitovskij\, Universität Bonn\njakob.kullik@phil.tu-chemnitz.de
ORGANIZER:MAILTO:jakob.kullik@phil.tu-chemnitz.de
UID:21069@www.tu-chemnitz.de
CREATED:20200102T121000Z
DTSTAMP:20210802T183829Z
END:VEVENT
END:VCALENDAR
