BEGIN:VCALENDAR
VERSION:2.0
PRODID:TU Chemnitz
METHOD:PUBLISH
X-WR-CALNAME:Veranstaltungen der TU Chemnitz
X-WR-TIMEZONE:Europe/Berlin
BEGIN:VEVENT
CLASS:PUBLIC
DTSTART;TZID="Europe/Berlin":20200122T150000
DTEND;TZID="Europe/Berlin":20200122T160000
LOCATION:Reichenhainer Str. 90\, Chemnitz (Zentr. Hörsaal- und Seminargebäude)
SUMMARY:Kunststofftechnisches Kolloquium (TU Chemnitz\, Professur Kunststoffe)
DESCRIPTION:Vortrag zum Thema "Einfluss der verschiedenen Kunststoffe und Additive auf die Schweißbarkeit und Beispiel einer Schweißentwicklung"\nAlexandre Lengeler\, DuPont International Operations Sàrl\, Meyrin\, Schweiz\nMarios Constantinou\, -35461\, marios.constantinou@mb.tu-chemnitz.de
ORGANIZER:MAILTO:marios.constantinou@mb.tu-chemnitz.de
UID:21067@www.tu-chemnitz.de
CREATED:20191220T084800Z
DTSTAMP:20210802T183827Z
END:VEVENT
END:VCALENDAR
