BEGIN:VCALENDAR
VERSION:2.0
PRODID:TU Chemnitz
METHOD:PUBLISH
X-WR-CALNAME:Veranstaltungen der TU Chemnitz
X-WR-TIMEZONE:Europe/Berlin
BEGIN:VEVENT
CLASS:PUBLIC
DTSTART;TZID="Europe/Berlin":20191210T180000
DTEND;TZID="Europe/Berlin":20191210T210000
LOCATION:Reichenhainer Str. 70\, Chemnitz (Weinhold-Bau)
SUMMARY:"Wem gehört das Lied?" Filmische Repräsentation von Rassismen auf dem Balkan (Philosophische Fakultät\, Kultureller und Sozialer Wandel)
DESCRIPTION:Der Mythos einer echten Kultur wird mittels Filmanalyse und am Beispiel des Filmes analysiert. Jedes Balkanvolk hat seine Fassung und ist davon überzeugt\, dass das Lied aus seinem Land stamme und ein typischer Teil seiner "ureigenen Kultur" sei.\nKalina Shtereva (Veliko Tarnovo Universität\, Bulgarien)\nana.troncoso@phil.tu-chemnitz.de
ORGANIZER:MAILTO:ana.troncoso@phil.tu-chemnitz.de
UID:21047@www.tu-chemnitz.de
CREATED:20191202T140900Z
DTSTAMP:20210802T184159Z
END:VEVENT
END:VCALENDAR
