BEGIN:VCALENDAR
VERSION:2.0
PRODID:TU Chemnitz
METHOD:PUBLISH
X-WR-CALNAME:Veranstaltungen der TU Chemnitz
X-WR-TIMEZONE:Europe/Berlin
BEGIN:VEVENT
CLASS:PUBLIC
DTSTART;TZID="Europe/Berlin":20191211T200000
DTEND;TZID="Europe/Berlin":20191211T220000
LOCATION:Filmclub "mittendrin"\, Reichenhainer Str. 35/37\, Keller Mittelbau
SUMMARY:Kino: DIE STADT DER ROMA [Eintritt frei! Mit Gespräch!] (»mittendrin« – das campuskino)
DESCRIPTION:filmclub@tu-chemnitz.de
ORGANIZER:MAILTO:richard.geuter@s2015.tu-chemnitz.de
UID:21045@www.tu-chemnitz.de
CREATED:20191202T121800Z
DTSTAMP:20210802T184149Z
END:VEVENT
END:VCALENDAR
