BEGIN:VCALENDAR
VERSION:2.0
PRODID:TU Chemnitz
METHOD:PUBLISH
X-WR-CALNAME:Veranstaltungen der TU Chemnitz
X-WR-TIMEZONE:Europe/Berlin
BEGIN:VEVENT
CLASS:PUBLIC
DTSTART;TZID="Europe/Berlin":20200213T160000
DTEND;TZID="Europe/Berlin":20200213T180000
LOCATION:
SUMMARY:Bewertungs­portale – Was ist erlaubt? (TU Chemnitz)
DESCRIPTION:Basisworkshop des Mittelstand 4.0-Kompetenzzentrum Chemnitz\nMittelstand 4.0-Kompetenzzentrum Chemnitz\nMichael Rätze Tel.: +49 (0) 371/ 53135860 E-Mail: michael.raetze@betrieb-machen.de
ORGANIZER:MAILTO:madeleine.dietrich@mb.tu-chemnitz.de
UID:21030@www.tu-chemnitz.de
CREATED:20191126T134600Z
DTSTAMP:20210802T183400Z
END:VEVENT
END:VCALENDAR
