BEGIN:VCALENDAR
VERSION:2.0
PRODID:TU Chemnitz
METHOD:PUBLISH
X-WR-CALNAME:Veranstaltungen der TU Chemnitz
X-WR-TIMEZONE:Europe/Berlin
BEGIN:VEVENT
CLASS:PUBLIC
DTSTART;TZID="Europe/Berlin":20191218T190000
DTEND;TZID="Europe/Berlin":20191218T210000
LOCATION:TIETZ\, Veranstaltungssaal\, Moritzstraße 20\, 09111 Chemnitz
SUMMARY:Großbritannien nach der Wahl (TU Chemnitz\, Europäische Regierungssysteme im Vergleich)
DESCRIPTION:Zum 2. Mal seit 2015 finden vorgezogene Wahlen zum britischen Unterhaus statt. Der Brexit wurde erneut verschoben\, PM Johnson verfügt über keine Mehrheit und das Land ist gespaltener denn je\, was schwierige Mehrheitsverhältnisse erwarten lässt.\nPD Dr. Christian Schweiger; Prof. Dr. Kai Oppermann; Prof. Dr. Klaus Stolz\nKein Anmeldung notwendig. Die Veranstaltung ist entgeltfrei und findet in Kooperation mit der VHS Chemnitz statt.
ORGANIZER:MAILTO:christiana.gransow@phil.tu-chemnitz.de
UID:21028@www.tu-chemnitz.de
CREATED:20191126T085300Z
DTSTAMP:20210802T184149Z
END:VEVENT
END:VCALENDAR
