BEGIN:VCALENDAR
VERSION:2.0
PRODID:TU Chemnitz
METHOD:PUBLISH
X-WR-CALNAME:Veranstaltungen der TU Chemnitz
X-WR-TIMEZONE:Europe/Berlin
BEGIN:VEVENT
CLASS:PUBLIC
DTSTART;TZID="Europe/Berlin":20191206T190000
DTEND;TZID="Europe/Berlin":20191206T203000
LOCATION:St. Petrikirche Chemnitz
SUMMARY:Universitätsmusik mit dem Collegium musicum und dem Universitätschor (Universitätschor der TU Chemnitz)
DESCRIPTION:Gönnen Sie sich in der Adventszeit Momente der Besinnung bei\nweihnachtlichen Klängen des Universitätschores der TU Chemnitz und des\nOrchesters Collegium musicum. Es erwartet Sie ein breites Repertoire aus\nunterschiedlichen Epochen und Stilrichtungen.\nHans Wulf\, 0371 53138778\, hans.wulf@mb.tu-chemnitz.de
ORGANIZER:MAILTO:hans.wulf@mb.tu-chemnitz.de
UID:21024@www.tu-chemnitz.de
CREATED:20191125T185700Z
DTSTAMP:20210802T184156Z
END:VEVENT
END:VCALENDAR
