BEGIN:VCALENDAR
VERSION:2.0
PRODID:TU Chemnitz
METHOD:PUBLISH
X-WR-CALNAME:Veranstaltungen der TU Chemnitz
X-WR-TIMEZONE:Europe/Berlin
BEGIN:VEVENT
CLASS:PUBLIC
DTSTART;TZID="Europe/Berlin":20191204T180000
DTEND;TZID="Europe/Berlin":20191204T203000
LOCATION:Reichenhainer Str. 90\, Chemnitz (Zentr. Hörsaal- und Seminargebäude)
SUMMARY:Filmvorführung Viva Portugal (Philosophische Fakultät\, Professur Kultureller und Sozialer Wandel)
DESCRIPTION:Der Film "Viva Portugal" (Regisseur Malte Rauch) behandelt die revolutionären Umwälzungen in Portugal im Jahre 1974. Der Regisseur hält am 5. Dezember innerhalb der Portugaltagung einen Vortrag zum Film. Interessenten sind zu beidem herzlich eingeladen.\nThomas Weißmann\, 0371/531-34343\, thomas.weissmann@phil.tu-chemnitz.de
ORGANIZER:MAILTO:thomas.weissmann@s2013.tu-chemnitz.de
UID:21016@www.tu-chemnitz.de
CREATED:20191120T140700Z
DTSTAMP:20210802T184150Z
END:VEVENT
END:VCALENDAR
