BEGIN:VCALENDAR
VERSION:2.0
PRODID:TU Chemnitz
METHOD:PUBLISH
X-WR-CALNAME:Veranstaltungen der TU Chemnitz
X-WR-TIMEZONE:Europe/Berlin
BEGIN:VEVENT
CLASS:PUBLIC
DTSTART;TZID="Europe/Berlin":20191127T130000
DTEND;TZID="Europe/Berlin":20191127T134500
LOCATION:Wilhelm-Raabe-Str. 43\, Chemnitz
SUMMARY:Psychologisches Kolloquium (Fakultät für Human- und Sozialwissenschaften\, Institut für Psychologie)
DESCRIPTION:Thema: Sexualität bei Jugendlichen: Was ist schon normal?\nDipl.-Psych. Eliza Schlinzig\nM. Sc. Psych. N. Hauptmann - 34386
ORGANIZER:MAILTO:michael.meinig@psychologie.tu-chemnitz.de
UID:21012@www.tu-chemnitz.de
CREATED:20191119T084800Z
DTSTAMP:20210802T184535Z
END:VEVENT
END:VCALENDAR
