BEGIN:VCALENDAR
VERSION:2.0
PRODID:TU Chemnitz
METHOD:PUBLISH
X-WR-CALNAME:Veranstaltungen der TU Chemnitz
X-WR-TIMEZONE:Europe/Berlin
BEGIN:VEVENT
CLASS:PUBLIC
DTSTART;TZID="Europe/Berlin":20200108T140000
DTEND;TZID="Europe/Berlin":20200108T153000
LOCATION:Str. der Nationen 62\, Chemnitz (Böttcher-Bau)
SUMMARY:Deutsches Bildungs- und Hochschulsystem für studieninteressierte Geflüchtete (Internationales Universitätszentrum)
DESCRIPTION:Der letzte Vortrag widmet sich dem deutschen Bildungs- und Hochschulsystem mit besonderem Fokus auf den wichtigsten Abläufen an einer Universität. Wir klären bspw. worin der Unterschied zwischen Seminaren\, Vorlesungen und Tutorien liegt.\nJennifer Bosniatzki\, +49 371 531-33072\, refugeeswelcome.projektkoordination@tu-chemnitz.de
ORGANIZER:MAILTO:jennifer.bosniatzki@s2015.tu-chemnitz.de
UID:20991@www.tu-chemnitz.de
CREATED:20191112T151100Z
DTSTAMP:20210802T183821Z
END:VEVENT
END:VCALENDAR
