BEGIN:VCALENDAR
VERSION:2.0
PRODID:TU Chemnitz
METHOD:PUBLISH
X-WR-CALNAME:Veranstaltungen der TU Chemnitz
X-WR-TIMEZONE:Europe/Berlin
BEGIN:VEVENT
CLASS:PUBLIC
DTSTART;TZID="Europe/Berlin":20191112T210000
DTEND;TZID="Europe/Berlin":20191112T230000
LOCATION:Filmclub "mittendrin"\, Reichenhainer Str. 35/37\, Keller Mittelbau
SUMMARY:Kino: TRAUTMANN (OmU) (»mittendrin« – das campuskino)
DESCRIPTION:Trautmann? Die Geschichte des Torwarts Bert Trautmann\, der nach dem II.Weltkrieg die Herzen der Engländer eroberte und zur Legende wurde\, hat einen Film verdient. Einen großen Film. (Keine Angst: kein reiner „Sportfilm“. Großartig: David Kross!)\nfilmclub@tu-chemnitz.de
ORGANIZER:MAILTO:richard.geuter@s2015.tu-chemnitz.de
UID:20978@www.tu-chemnitz.de
CREATED:20191110T203300Z
DTSTAMP:20210802T184520Z
END:VEVENT
END:VCALENDAR
