BEGIN:VCALENDAR
VERSION:2.0
PRODID:TU Chemnitz
METHOD:PUBLISH
X-WR-CALNAME:Veranstaltungen der TU Chemnitz
X-WR-TIMEZONE:Europe/Berlin
BEGIN:VEVENT
CLASS:PUBLIC
DTSTART;TZID="Europe/Berlin":20191118T190000
DTEND;TZID="Europe/Berlin":20191201T190000
LOCATION:Reichenhainer Str. 90\, Chemnitz (Zentr. Hörsaal- und Seminargebäude)
SUMMARY:Die Samariter aus Markowa - Polen und Juden im Zweiten Weltkrieg (TU Chemnitz\, Kultur- und Länderstudien Ostmitteleuropa)
DESCRIPTION:Thema der Ausstellung ist das Verhältnis zwischen Polen und Juden in Südostpolen während der Nazi-Okkupation am Beispiel der polnischen Familie Ulma aus Markowa\, die auf ihrem Grundstück jüdische Mitbürger versteckte. \n \n.\nProf. Dr. Stefan Garsztecki\nJurek Wejwoda\, M.A.\, Telefon: 0371 531-35406\, E-Mail: jurek.wejwoda@phil.tu-chemnitz.de
ORGANIZER:MAILTO:jurek.wejwoda@phil.tu-chemnitz.de
UID:20976@www.tu-chemnitz.de
CREATED:20191110T121800Z
DTSTAMP:20210802T184531Z
END:VEVENT
END:VCALENDAR
