BEGIN:VCALENDAR
VERSION:2.0
PRODID:TU Chemnitz
METHOD:PUBLISH
X-WR-CALNAME:Veranstaltungen der TU Chemnitz
X-WR-TIMEZONE:Europe/Berlin
BEGIN:VEVENT
CLASS:PUBLIC
DTSTART;TZID="Europe/Berlin":20191111T143000
DTEND;TZID="Europe/Berlin":20191111T153000
LOCATION:Pegasus-Center\, Chemnitz
SUMMARY:Messeknigge: Der ertse Eindruck zählt (Career Service)
DESCRIPTION:Unsere Berufsorientierungsmesse TUCconnect bietet die ideale Gelegenheit\, um potenzielle Arbeitgeber kennenzulernen und Kontakte zu knüpfen. Neben Tipps & Tricks erfahrt ihr\, worauf es beim ersten Eindruck ankommt.\nCindy Paukert\ncindy.paukert@zwt.tu-chemnitz.de
ORGANIZER:MAILTO:tom.hunger@zwt.tu-chemnitz.de
UID:20956@www.tu-chemnitz.de
CREATED:20191101T101300Z
DTSTAMP:20210802T184528Z
END:VEVENT
END:VCALENDAR
