BEGIN:VCALENDAR
VERSION:2.0
PRODID:TU Chemnitz
METHOD:PUBLISH
X-WR-CALNAME:Veranstaltungen der TU Chemnitz
X-WR-TIMEZONE:Europe/Berlin
BEGIN:VEVENT
CLASS:PUBLIC
DTSTART;TZID="Europe/Berlin":20191116T140000
DTEND;TZID="Europe/Berlin":20191116T180000
LOCATION:Q-HUB Chemnitz\, Beckerstraße 13
SUMMARY:Studi meets Praxis | Human- und Sozialwissenschaften (TU Chemnitz)
DESCRIPTION:Welche Berufsfelder eröffnen sich dir nach dem Studium der Human- und Sozialwissenschaften? Wie sieht ein typischer oder vielleicht auch ungewöhnlicher Werdegang für Absolvent*innen aus? - Studi meets Praxis bietet dir die Gelegenheit das herauszufinden.\nDr. Friederike Brockhaus\, Tel.: 531-37111\, E-Mail: friederike.brockhaus@hrz.tu-chemnitz.de
ORGANIZER:MAILTO:lisa.eichhorst@hrz.tu-chemnitz.de
UID:20955@www.tu-chemnitz.de
CREATED:20191101T092100Z
DTSTAMP:20210802T184524Z
END:VEVENT
END:VCALENDAR
