BEGIN:VCALENDAR
VERSION:2.0
PRODID:TU Chemnitz
METHOD:PUBLISH
X-WR-CALNAME:Veranstaltungen der TU Chemnitz
X-WR-TIMEZONE:Europe/Berlin
BEGIN:VEVENT
CLASS:PUBLIC
DTSTART;TZID="Europe/Berlin":20191219T090000
DTEND;TZID="Europe/Berlin":20191219T170000
LOCATION:Reichenhainer Str. 70\, Chemnitz (Weinhold-Bau)
SUMMARY:Cross-Media im Beruf (Zentrum für Wissens- und Technologietransfer)
DESCRIPTION:Die Teilnehmer erhalten einen Überblick zum Thema "Social Media" und am Beispiel "Wissenschafts- und Hochschulkommunikation" sowie einen detaillierten Einblick in die Arbeitsweise einer professionellen Social-Media-Redaktion.\nMatthias Fejes\ncareer-service@tu-chemnitz.de
ORGANIZER:MAILTO:maria.hauschild@zwt.tu-chemnitz.de
UID:20948@www.tu-chemnitz.de
CREATED:20191030T141200Z
DTSTAMP:20210802T184206Z
END:VEVENT
END:VCALENDAR
