BEGIN:VCALENDAR
VERSION:2.0
PRODID:TU Chemnitz
METHOD:PUBLISH
X-WR-CALNAME:Veranstaltungen der TU Chemnitz
X-WR-TIMEZONE:Europe/Berlin
BEGIN:VEVENT
CLASS:PUBLIC
DTSTART;TZID="Europe/Berlin":20191127T153000
DTEND;TZID="Europe/Berlin":20191127T170000
LOCATION:Career Service\, Dittesstraße 15\, Raum 401
SUMMARY:Vom Studienzweifel zum Studienabbruch – Chancen und Wege danach (Agentur für Arbeit Chemnitz) (Zentrum für Wissens- und Technologietransfer)
DESCRIPTION:Es gibt viele Möglichkeiten für Studienabbrecher ihre Zukunft zu gestalten. Welche beruflichen Bildungswege es gibt und wie ihr den passenden Weg findet\, wird im Vortrag aufgezeigt.\nDr. Wilfried Mehnert\ncareer-service@tu-chemnitz.de
ORGANIZER:MAILTO:maria.hauschild@zwt.tu-chemnitz.de
UID:20945@www.tu-chemnitz.de
CREATED:20191030T140500Z
DTSTAMP:20210802T184544Z
END:VEVENT
END:VCALENDAR
