BEGIN:VCALENDAR
VERSION:2.0
PRODID:TU Chemnitz
METHOD:PUBLISH
X-WR-CALNAME:Veranstaltungen der TU Chemnitz
X-WR-TIMEZONE:Europe/Berlin
BEGIN:VEVENT
CLASS:PUBLIC
DTSTART;TZID="Europe/Berlin":20191125T100000
DTEND;TZID="Europe/Berlin":20191125T150000
LOCATION:KPMG AG Wirtschaftsprüfungsgesellschaft\, Galeriestraße 2\, Dresden
SUMMARY:Casestudy: "Trends erkennen statt nur erraten"  (Zentrum für Wissens- und Technologietransfer)
DESCRIPTION:Der Workshop bietet den TeilnehmerInnen eine Casestudy\, in der anhand von Praxisbeispielen ein realitätsnaher Einblick in die Vermögens-\, Ertrags- und Finanzlage von Unternehmen gezeigt und diskutiert wird.\ncareer-service@tu-chemnitz.de
ORGANIZER:MAILTO:maria.hauschild@zwt.tu-chemnitz.de
UID:20942@www.tu-chemnitz.de
CREATED:20191030T135800Z
DTSTAMP:20210802T184545Z
END:VEVENT
END:VCALENDAR
