BEGIN:VCALENDAR
VERSION:2.0
PRODID:TU Chemnitz
METHOD:PUBLISH
X-WR-CALNAME:Veranstaltungen der TU Chemnitz
X-WR-TIMEZONE:Europe/Berlin
BEGIN:VEVENT
CLASS:PUBLIC
DTSTART;TZID="Europe/Berlin":20191118T140000
DTEND;TZID="Europe/Berlin":20191118T160000
LOCATION:Galeriestraße 2\, Dresden
SUMMARY:Exkursion KPMG AG Wirtschaftsprüfungsgesellschaft (Zentrum für Wissens- und Technologietransfer)
DESCRIPTION:Diese Veranstaltung bietet die Möglichkeit KPMG hautnah zu erleben. Die Kolleginnen und Kollegen geben wichtige Insights und du erfährst alles über die Einstiegsmöglichkeiten bei KPMG.\ncareer-service@tu-chemnitz.de
ORGANIZER:MAILTO:maria.hauschild@zwt.tu-chemnitz.de
UID:20940@www.tu-chemnitz.de
CREATED:20191030T135200Z
DTSTAMP:20210802T184556Z
END:VEVENT
END:VCALENDAR
