BEGIN:VCALENDAR
VERSION:2.0
PRODID:TU Chemnitz
METHOD:PUBLISH
X-WR-CALNAME:Veranstaltungen der TU Chemnitz
X-WR-TIMEZONE:Europe/Berlin
BEGIN:VEVENT
CLASS:PUBLIC
DTSTART;TZID="Europe/Berlin":20200208T200000
DTEND;TZID="Europe/Berlin":20200208T235900
LOCATION:Waisenstr. 11\, 09111 Chemnitz
SUMMARY:Semesterexkneipe (Studentenverbindung Teutonia zu Chemnitz und Gummersbach)
DESCRIPTION:Hochoffizielle Kneipe\, um das Ende der Vorlesungen zu feiern und Kraft für die Prüfungsperiode zu tanken. Kommt vorbei und lernt die Teutonia kennen!\nInfos unter x@teutonenweb.de
ORGANIZER:MAILTO:marian.bertz@s2007.tu-chemnitz.de
UID:20931@www.tu-chemnitz.de
CREATED:20191028T201700Z
DTSTAMP:20210802T183356Z
END:VEVENT
END:VCALENDAR
