BEGIN:VCALENDAR
VERSION:2.0
PRODID:TU Chemnitz
METHOD:PUBLISH
X-WR-CALNAME:Veranstaltungen der TU Chemnitz
X-WR-TIMEZONE:Europe/Berlin
BEGIN:VEVENT
CLASS:PUBLIC
DTSTART;TZID="Europe/Berlin":20191206T090000
DTEND;TZID="Europe/Berlin":20191206T120000
LOCATION:Erfenschlager Str. 73\, Chemnitz
SUMMARY:Datenbanken im Einsatz (TU Chemnitz)
DESCRIPTION:Basisworkshop des Mittelstand 4.0-Kompetenzzentrum Chemnitz\nMittelstand 4.0-Kompetenzzentrum Chemnitz\nHendrik Unger Tel.: +49 (0) 371 / 531 35983 E-Mail: hendrik.unger@betrieb-machen.de
ORGANIZER:MAILTO:madeleine.dietrich@mb.tu-chemnitz.de
UID:20914@www.tu-chemnitz.de
CREATED:20191023T142800Z
DTSTAMP:20210802T184159Z
END:VEVENT
END:VCALENDAR
