BEGIN:VCALENDAR
VERSION:2.0
PRODID:TU Chemnitz
METHOD:PUBLISH
X-WR-CALNAME:Veranstaltungen der TU Chemnitz
X-WR-TIMEZONE:Europe/Berlin
BEGIN:VEVENT
CLASS:PUBLIC
DTSTART;VALUE=DATE:20191121
DTEND;VALUE=DATE:20191121
LOCATION:SpinLab – The HHL Accelerator\, Spinnereistrasse 7\, 04179 Leipzig
SUMMARY:Exkursion „Start-ups und Digitalisierung“ (TU Chemnitz)
DESCRIPTION:Mit dem Gründernetzwerk SAXEED und der Deutschen Bank Digitalisierung erleben.\nAnmeldung: https://www.saxeed.net/termin/exkursion-start-ups-und-digitalisierung
ORGANIZER:MAILTO:linda.felber@zwt.tu-chemnitz.de
UID:20911@www.tu-chemnitz.de
CREATED:20191023T124300Z
DTSTAMP:20210802T184530Z
END:VEVENT
END:VCALENDAR
