BEGIN:VCALENDAR
VERSION:2.0
PRODID:TU Chemnitz
METHOD:PUBLISH
X-WR-CALNAME:Veranstaltungen der TU Chemnitz
X-WR-TIMEZONE:Europe/Berlin
BEGIN:VEVENT
CLASS:PUBLIC
DTSTART;TZID="Europe/Berlin":20191128T160000
DTEND;TZID="Europe/Berlin":20191128T173000
LOCATION:Reichenhainer Str. 90\, Chemnitz (Zentr. Hörsaal- und Seminargebäude)
SUMMARY:Chemnitzer Mathematisches Colloquium (Fakultät für Mathematik)
DESCRIPTION:Thema: Existence of solutions for double phase problems via Nehari manifolds\nPriv.-Doz. Dr. Patrick Winkert (TU Berlin)\nDas Kolloquium wird von Herrn Prof. Dr. Pietschmann geleitet.
ORGANIZER:MAILTO:margit.matt@mathematik.tu-chemnitz.de
UID:20907@www.tu-chemnitz.de
CREATED:20191023T110000Z
DTSTAMP:20210802T184544Z
END:VEVENT
END:VCALENDAR
