BEGIN:VCALENDAR
VERSION:2.0
PRODID:TU Chemnitz
METHOD:PUBLISH
X-WR-CALNAME:Veranstaltungen der TU Chemnitz
X-WR-TIMEZONE:Europe/Berlin
BEGIN:VEVENT
CLASS:PUBLIC
DTSTART;TZID="Europe/Berlin":20191113T111500
DTEND;TZID="Europe/Berlin":20191113T123000
LOCATION:Reichenhainer Str. 90\, Chemnitz (Zentr. Hörsaal- und Seminargebäude)
SUMMARY:Physikalisches Kolloquium (Fakultät für Naturwissenschaften\, Institut für Physik)
DESCRIPTION:Thema: "Inducing and controlling magnetism through atomic manipulation"\nDr. Alexander Weismann (Christian-Albrechts-Universität zu Kiel)\nProf. Dr. Christoph Tegenkamp (Tel: 33103\, Email: christoph.tegenkamp@physik.tu-chemnitz.de)
ORGANIZER:MAILTO:annku@hrz.tu-chemnitz.de
UID:20896@www.tu-chemnitz.de
CREATED:20191022T134600Z
DTSTAMP:20210802T184530Z
END:VEVENT
END:VCALENDAR
