BEGIN:VCALENDAR
VERSION:2.0
PRODID:TU Chemnitz
METHOD:PUBLISH
X-WR-CALNAME:Veranstaltungen der TU Chemnitz
X-WR-TIMEZONE:Europe/Berlin
BEGIN:VEVENT
CLASS:PUBLIC
DTSTART;TZID="Europe/Berlin":20191105T180000
DTEND;TZID="Europe/Berlin":20191105T200000
LOCATION:eniProd-Gebäude\, Raum 70-017
SUMMARY:Praxis des US-amerikanischen Markenrechts (Zentrum für Wissens- und Technologietransfer\, Patentinformationszentrum)
DESCRIPTION:Der Referent gibt – in englischer Sprache – einen Überblick über das U.S.-amerikanische Markenrecht. Das Seminar ist kostenlos und offen für alle Interessenten\, ob Rechts- oder Patentanwalt\, Student oder Firmenangehöriger.\nDavid Copland\, Copland Legal\, Dresden\nDr. Silvio Heider\, 39477\, piz@tu-chemnitz.de
ORGANIZER:MAILTO:silvio.heider@piz.tu-chemnitz.de
UID:20891@www.tu-chemnitz.de
CREATED:20191016T105700Z
DTSTAMP:20210802T184550Z
END:VEVENT
END:VCALENDAR
