BEGIN:VCALENDAR
VERSION:2.0
PRODID:TU Chemnitz
METHOD:PUBLISH
X-WR-CALNAME:Veranstaltungen der TU Chemnitz
X-WR-TIMEZONE:Europe/Berlin
BEGIN:VEVENT
CLASS:PUBLIC
DTSTART;TZID="Europe/Berlin":20191030T134500
DTEND;TZID="Europe/Berlin":20191030T180000
LOCATION:Pegasus-Center\, Chemnitz
SUMMARY:Gehaltsverhandlung - Wie erreiche ich mein Wunschgehalt? (Career Service)
DESCRIPTION:Die Teilnehmer lernen Werbung in eigener Sache zu betreiben\, sich optimal auf Gehaltsgespräche vorzubereiten und dieses selbstbewusst durchzuführen. Abschließend folgt ein Ausblick auf mögliche Gehaltsbestandteile.\ncindy.paukert@zwt.tu-chemnitz.de
ORGANIZER:MAILTO:tom.hunger@zwt.tu-chemnitz.de
UID:20888@www.tu-chemnitz.de
CREATED:20191015T093100Z
DTSTAMP:20210802T184926Z
END:VEVENT
END:VCALENDAR
