BEGIN:VCALENDAR
VERSION:2.0
PRODID:TU Chemnitz
METHOD:PUBLISH
X-WR-CALNAME:Veranstaltungen der TU Chemnitz
X-WR-TIMEZONE:Europe/Berlin
BEGIN:VEVENT
CLASS:PUBLIC
DTSTART;TZID="Europe/Berlin":20191021T150000
DTEND;TZID="Europe/Berlin":20191021T160000
LOCATION:Reichenhainer Str. 70\, Chemnitz (Weinhold-Bau)
SUMMARY:Systems and Control Seminar (Fakultät für Elektrotechnik und Informationstechnik\, Regelungstechnik und Systemdynamik)
DESCRIPTION:Thema: "On semidefinite programming and moment/sums-of-squares hierarchy for solving polynomial optimization problems"\nDas Seminar wird von Prof. Dr.-Ing. habil. Stefan Streif geleitet.\nDr. Victor Magron\, CNRS LAAS \nProf. Dr.-Ing. habil. Stefan Streif\, +49 371 531-31899\, stefan.streif@etit.tu-chemnitz.de
ORGANIZER:MAILTO:grigory.devadze@etit.tu-chemnitz.de
UID:20885@www.tu-chemnitz.de
CREATED:20191014T084600Z
DTSTAMP:20210802T184935Z
END:VEVENT
END:VCALENDAR
