BEGIN:VCALENDAR
VERSION:2.0
PRODID:TU Chemnitz
METHOD:PUBLISH
X-WR-CALNAME:Veranstaltungen der TU Chemnitz
X-WR-TIMEZONE:Europe/Berlin
BEGIN:VEVENT
CLASS:PUBLIC
DTSTART;TZID="Europe/Berlin":20020213T180000
DTEND;TZID="Europe/Berlin":20020213T193000
LOCATION:Str. der Nationen 62\, Chemnitz (Böttcher-Bau)
SUMMARY:TeX-Stammtisch: Farbe in LaTeX (Universitätsrechenzentrum)
DESCRIPTION:Jens Pönisch\nralf.koenig@s1998.tu-chemnitz.de
ORGANIZER:MAILTO:ralk@hrz.tu-chemnitz.de
UID:2088@www.tu-chemnitz.de
CREATED:20020208T102700Z
DTSTAMP:20210802T202603Z
END:VEVENT
END:VCALENDAR
