BEGIN:VCALENDAR
VERSION:2.0
PRODID:TU Chemnitz
METHOD:PUBLISH
X-WR-CALNAME:Veranstaltungen der TU Chemnitz
X-WR-TIMEZONE:Europe/Berlin
BEGIN:VEVENT
CLASS:PUBLIC
DTSTART;TZID="Europe/Berlin":20191016T163000
DTEND;TZID="Europe/Berlin":20191016T180000
LOCATION:Reichenhainer Str. 55\, Chemnitz (Mensa)
SUMMARY:Kindertreff - Unsere heimischen Vögel (Zentrum für Chancengleicheit in Wissenschaft und Forschung\, Familienservice)
DESCRIPTION:Wir tauchen ein\, in die Welt der Vögel und basteln Futterstätten für den Winter.\nAlle Kinder von 3-8 Jahren von Studierenden und Beschäftigten der TU Chemnitz und des Studentenwerkes Chemnitz-Zwickau sind herzlich eingeladen.\nIsabell Höfner  +49 371 531-30101
ORGANIZER:MAILTO:konstanze.wittersberg@s2013.tu-chemnitz.de
UID:20870@www.tu-chemnitz.de
CREATED:20191002T112300Z
DTSTAMP:20210802T184933Z
END:VEVENT
END:VCALENDAR
