BEGIN:VCALENDAR
VERSION:2.0
PRODID:TU Chemnitz
METHOD:PUBLISH
X-WR-CALNAME:Veranstaltungen der TU Chemnitz
X-WR-TIMEZONE:Europe/Berlin
BEGIN:VEVENT
CLASS:PUBLIC
DTSTART;TZID="Europe/Berlin":20191205T153000
DTEND;TZID="Europe/Berlin":20191205T173000
LOCATION:Reichenhainer Str. 90\, Chemnitz (Zentr. Hörsaal- und Seminargebäude)
SUMMARY:Experimentalvorlesung "Weihnachtszeit - Chemische Zeit" (TU Chemnitz\, Professur Anorganische Chemie)
DESCRIPTION:Experimentalvorlesung im Rahmen des TU Weihnachtsmarktes: Für eventuelle Schäden und Risiken\, die über das allgemeine Lebensrisiko hinaus gehen\, wird keine Haftung übernommen.\nProf. Dr. Heinrich Lang\, Ute Stöß und Mitarbeiter der Professur Anorganische Chemie  \nProf. Dr. Heinrich Lang\, Tel. 0371/531-21210\, heinrich.lang@chemie.tu-chemnitz.de
ORGANIZER:MAILTO:jutta.ruder@chemie.tu-chemnitz.de
UID:20866@www.tu-chemnitz.de
CREATED:20190930T142100Z
DTSTAMP:20210802T184148Z
END:VEVENT
END:VCALENDAR
