BEGIN:VCALENDAR
VERSION:2.0
PRODID:TU Chemnitz
METHOD:PUBLISH
X-WR-CALNAME:Veranstaltungen der TU Chemnitz
X-WR-TIMEZONE:Europe/Berlin
BEGIN:VEVENT
CLASS:PUBLIC
DTSTART;TZID="Europe/Berlin":20191106T190000
DTEND;TZID="Europe/Berlin":20191107T170000
LOCATION:Erfenschlager Str. 73\, Chemnitz
SUMMARY:Vernetzt Planen und Produzieren VPP2019 (Fakultät für Maschinenbau\, Institut für Betriebswissenschaften und Fabriksysteme)
DESCRIPTION:Die traditionsreiche Tagung VPP bietet eine Plattform für den Austausch zu aktuellen Themen der Fabrik- und Arbeitsgestaltung - aktuell zum Thema menschliche und künstliche Intelligenz in der Fabrik sowie in Logistik- und Arbeitsprozessen.\nKerstin Aurich\, +49 (0) 371 531-19937\, VPP@mb.tu-chemnitz.de
ORGANIZER:MAILTO:b.seifert@mb.tu-chemnitz.de
UID:20863@www.tu-chemnitz.de
CREATED:20190927T150400Z
DTSTAMP:20210802T184533Z
END:VEVENT
END:VCALENDAR
