BEGIN:VCALENDAR
VERSION:2.0
PRODID:TU Chemnitz
METHOD:PUBLISH
X-WR-CALNAME:Veranstaltungen der TU Chemnitz
X-WR-TIMEZONE:Europe/Berlin
BEGIN:VEVENT
CLASS:PUBLIC
DTSTART;TZID="Europe/Berlin":20191025T090000
DTEND;TZID="Europe/Berlin":20191025T170000
LOCATION:Pegasus-Center\, Chemnitz
SUMMARY:Internet of Things – Mit Deiner Idee in die Zukunft (TU Chemnitz)
DESCRIPTION:Anmeldung über die SAXEED-Homepage\nhttps://www.saxeed.net/termin/internet-of-things-mit-deiner-idee-in-die-zukunft
ORGANIZER:MAILTO:linda.felber@s2015.tu-chemnitz.de
UID:20861@www.tu-chemnitz.de
CREATED:20190924T130700Z
DTSTAMP:20210802T184927Z
END:VEVENT
END:VCALENDAR
