BEGIN:VCALENDAR
VERSION:2.0
PRODID:TU Chemnitz
METHOD:PUBLISH
X-WR-CALNAME:Veranstaltungen der TU Chemnitz
X-WR-TIMEZONE:Europe/Berlin
BEGIN:VEVENT
CLASS:PUBLIC
DTSTART;TZID="Europe/Berlin":20191108T090000
DTEND;TZID="Europe/Berlin":20191108T170000
LOCATION:Pegasus-Center\, Chemnitz
SUMMARY:Agiles Projektmanagement (TU Chemnitz)
DESCRIPTION:Um während des Gründungsprozesses (und darüber hinaus) nicht im Chaos zu versinken\, sollte man sich frühzeitig mit geeigneten Methoden des Projektmanagements vertraut machen. Der Workshop beinhaltet ausgewählte Methoden des agilen Projektmanagements.\nMartin Sterzel\nhttps://www.saxeed.net/termin/agiles-projektmanagement-4
ORGANIZER:MAILTO:linda.felber@s2015.tu-chemnitz.de
UID:20860@www.tu-chemnitz.de
CREATED:20190924T130500Z
DTSTAMP:20210802T184551Z
END:VEVENT
END:VCALENDAR
