BEGIN:VCALENDAR
VERSION:2.0
PRODID:TU Chemnitz
METHOD:PUBLISH
X-WR-CALNAME:Veranstaltungen der TU Chemnitz
X-WR-TIMEZONE:Europe/Berlin
BEGIN:VEVENT
CLASS:PUBLIC
DTSTART;TZID="Europe/Berlin":20190923T190000
DTEND;TZID="Europe/Berlin":20190923T203000
LOCATION:TIETZ\, Veranstaltungssaal
SUMMARY:Wie werden wir leben? (Volkshochschule Chemnitz und Sächsische Landeszentrale für politische Bildung)
DESCRIPTION:Die Veranstaltungsreihe "Kontrovers vor Ort" startet mit Dr. André Matthes\, stellv. Leiter der Professur Textile Technologien\, der sich den Fragen von TV-Moderator Alexander Thamm stellt. Zuvor wird eine kurze Sendung aus der ARD-Alpha-Reihe gezeigt.\nDr. André Matthes\, stellv. Leiter der Professur Textile Technologien und Bereichsleiter Naturtextilien und Nachhaltigkeit\nTelefon 0371 488-4343
ORGANIZER:MAILTO:mario.steinebach@verwaltung.tu-chemnitz.de
UID:20844@www.tu-chemnitz.de
CREATED:20190918T152500Z
DTSTAMP:20210802T185115Z
END:VEVENT
END:VCALENDAR
