BEGIN:VCALENDAR
VERSION:2.0
PRODID:TU Chemnitz
METHOD:PUBLISH
X-WR-CALNAME:Veranstaltungen der TU Chemnitz
X-WR-TIMEZONE:Europe/Berlin
BEGIN:VEVENT
CLASS:PUBLIC
DTSTART;TZID="Europe/Berlin":20190918T143000
DTEND;TZID="Europe/Berlin":20190920T120000
LOCATION:Annaberg-Buchholz
SUMMARY:Rail & Digital Mobility User Conference (Zentrum für Wissens- und Technologietransfer)
DESCRIPTION:Hauptziele der Konferenz sind der Austausch der weltweiten Community im Innovationsfeld der Intelligenten Mobilität und die gemeinsame Erarbeitung von Forschungs- und Projektthemen in diesem Innovationsfeld.\nDr. Susann Oehme\, 0371/531-34326\, smart-rail@tu-chemnitz.de
ORGANIZER:MAILTO:susann.oehme@verwaltung.tu-chemnitz.de
UID:20840@www.tu-chemnitz.de
CREATED:20190911T101700Z
DTSTAMP:20210802T185118Z
END:VEVENT
END:VCALENDAR
