BEGIN:VCALENDAR
VERSION:2.0
PRODID:TU Chemnitz
METHOD:PUBLISH
X-WR-CALNAME:Veranstaltungen der TU Chemnitz
X-WR-TIMEZONE:Europe/Berlin
BEGIN:VEVENT
CLASS:PUBLIC
DTSTART;TZID="Europe/Berlin":20020208T180000
DTEND;TZID="Europe/Berlin":20020208T235900
LOCATION:Gaststätte Zum Frohem Zecher\, Marienberger Str.
SUMMARY:64. Stammtisch der Chemnitzer Linux User Group: WaveLANs mit Linux (Chemnitzer Linux User Group)
DESCRIPTION:<b>Eine Einfuehrung in die Installation und Nutzung von \nFunknetzen mit Linux</b>\n<ul><li>Vorstellung der Netzinfrastrukturen\n<li>Installation der Treiber\n<li>Hardwareunterstützung\n<li>Accesspoint mit Linux\n<li>die (Un)sicherheit von WEP\n</ul>\nMarco Flohrer\nRonald Schmidt\, 531-1377\, ronsc@ronsc.de
ORGANIZER:MAILTO:ronsc@hrz.tu-chemnitz.de
UID:2084@www.tu-chemnitz.de
CREATED:20020207T101100Z
DTSTAMP:20210802T202603Z
END:VEVENT
END:VCALENDAR
