BEGIN:VCALENDAR
VERSION:2.0
PRODID:TU Chemnitz
METHOD:PUBLISH
X-WR-CALNAME:Veranstaltungen der TU Chemnitz
X-WR-TIMEZONE:Europe/Berlin
BEGIN:VEVENT
CLASS:PUBLIC
DTSTART;TZID="Europe/Berlin":20190909T133000
DTEND;TZID="Europe/Berlin":20190909T173000
LOCATION:Reichenhainer Str. 70\, Chemnitz (Rühlmann-Bau)
SUMMARY:LiT.Workshop: Gamification in der Lehre des Maschinenbaus (Hochschuldidaktisches Zentrum Sachsen)
DESCRIPTION:Der Workshop wird verschiedene Konzepte der Gamification in der Lehre vorstellen und zeigen\, wie spielerische Elemente in die Lehrgestaltung einfließen und dabei die Kompetenzen der Studierenden fördern können.\nNico Nolden (Universität Hamburg)\nhttps://www.tu-chemnitz.de/qpl/lit/anmeldung/index.html?idkurs=38
ORGANIZER:MAILTO:sophie.reissner@verwaltung.tu-chemnitz.de
UID:20806@www.tu-chemnitz.de
CREATED:20190820T121700Z
DTSTAMP:20210802T185116Z
END:VEVENT
END:VCALENDAR
