BEGIN:VCALENDAR
VERSION:2.0
PRODID:TU Chemnitz
METHOD:PUBLISH
X-WR-CALNAME:Veranstaltungen der TU Chemnitz
X-WR-TIMEZONE:Europe/Berlin
BEGIN:VEVENT
CLASS:PUBLIC
DTSTART;TZID="Europe/Berlin":20191029T130000
DTEND;TZID="Europe/Berlin":20191029T161500
LOCATION:Reichenhainer Str. 70\, Chemnitz (Rühlmann-Bau)
SUMMARY:Projektverwaltung mit Git (Universitätsrechenzentrum)
DESCRIPTION:Neben den zugrunde liegenden Konzepten wird im Kurs die Arbeit mit git anhand praktischer Beispiele vermittelt: lokale Daten und Ressourcen\, Installation und Konfiguration\, Git repositories\, Commits\, Nachverfolgung\, Branching und Merging\nD. Schreiber\nAnmeldung über OPAL: https://mytuc.org/rqlj
ORGANIZER:MAILTO:antje.schreiber@hrz.tu-chemnitz.de
UID:20797@www.tu-chemnitz.de
CREATED:20190805T165700Z
DTSTAMP:20210802T184928Z
END:VEVENT
END:VCALENDAR
